BEGIN:VCALENDAR
VERSION:2.0
PRODID:-//wp-events-plugin.com//7.1.7//EN
TZID:Europe/Paris
X-WR-TIMEZONE:Europe/Paris
BEGIN:VEVENT
UID:0-543@sdes73.com
DTSTART;TZID=Europe/Paris:20260512T120000
DTEND;TZID=Europe/Paris:20260512T124500
DTSTAMP:20260421T071808Z
URL:https://www.sdes73.com/evenements/transfert-de-la-competence-gaz-2/
SUMMARY:Transfert de la compétence gaz
DESCRIPTION:Dans le cadre de sa nouvelle offre de service 2026-2027\, le SD
 ES propose aux collectivités de Savoie d'assurer le rôle Autorité Organ
 isatrice de la Distribution publique de Gaz (AODG)\, afin de prendre en ch
 arge le contrôle des contrats de concession ainsi que la gestion groupée
  de ces contrats qui permettra entre autres de négocier avec le délégat
 aire des conventions de transition énergétique avec des actions concrèt
 es.\nNous vous proposons un webinaire de 45 minutes\, pour vous &nbsp\;pr
 ésenter plus en détail les modalités du transfert de la compétence «
  gaz »\, le service proposé et enfin répondre à toutes vos interro
 gations.
ATTACH;FMTTYPE=image/jpeg:https://www.sdes73.com/app/uploads/2024/12/Gaz-s
 caled.jpg
CATEGORIES:Webinaire
END:VEVENT
BEGIN:VTIMEZONE
TZID:Europe/Paris
X-LIC-LOCATION:Europe/Paris
BEGIN:DAYLIGHT
DTSTART:20260329T030000
TZOFFSETFROM:+0100
TZOFFSETTO:+0200
TZNAME:CEST
END:DAYLIGHT
END:VTIMEZONE
END:VCALENDAR